BEGIN:VCALENDAR
VERSION:2.0
PRODID:-//pretix//tickets.webcontact.de//
BEGIN:VTIMEZONE
TZID:Europe/Berlin
BEGIN:STANDARD
DTSTART:20001029T040000
RRULE:FREQ=YEARLY;BYDAY=-1SU;BYMONTH=10
TZNAME:CET
TZOFFSETFROM:+0200
TZOFFSETTO:+0100
END:STANDARD
BEGIN:DAYLIGHT
DTSTART:20000326T030000
RRULE:FREQ=YEARLY;BYDAY=-1SU;BYMONTH=3
TZNAME:CEST
TZOFFSETFROM:+0100
TZOFFSETTO:+0200
END:DAYLIGHT
END:VTIMEZONE
BEGIN:VEVENT
UID:pretix-klosterpark-adelberg-icedrifting-72657@tickets.webcontact.de
DTSTART;TZID=Europe/Berlin:20240223T000000
DTEND;TZID=Europe/Berlin:20240223T000000
DESCRIPTION:Tickets: https://tickets.webcontact.de/klosterpark-adelberg/ice
 drifting/72657/\nVeranstalter: Klosterpark Adelberg
DTSTAMP:20260425T114146Z
LOCATION:Klosterpark 3-5\, 73099 Adelberg
SUMMARY:Sonderveranstaltung. KEIN ICE_DRIFTEN
END:VEVENT
END:VCALENDAR
