BEGIN:VCALENDAR
VERSION:2.0
PRODID:-//pretix//tickets.webcontact.de//
BEGIN:VTIMEZONE
TZID:Europe/Berlin
BEGIN:STANDARD
DTSTART:20001029T040000
RRULE:FREQ=YEARLY;BYDAY=-1SU;BYMONTH=10
TZNAME:CET
TZOFFSETFROM:+0200
TZOFFSETTO:+0100
END:STANDARD
BEGIN:DAYLIGHT
DTSTART:20000326T030000
RRULE:FREQ=YEARLY;BYDAY=-1SU;BYMONTH=3
TZNAME:CEST
TZOFFSETFROM:+0100
TZOFFSETTO:+0200
END:DAYLIGHT
END:VTIMEZONE
BEGIN:VEVENT
UID:pretix-klosterpark-adelberg-icedrifting-104890@tickets.webcontact.de
DTSTART;TZID=Europe/Berlin:20250217T201500
DTEND;TZID=Europe/Berlin:20250217T203000
DESCRIPTION:Tickets: https://tickets.webcontact.de/klosterpark-adelberg/ice
 drifting/104890/\nVeranstalter: Klosterpark Adelberg
DTSTAMP:20260421T023207Z
LOCATION:Klosterpark 3-5\, 73099 Adelberg
SUMMARY:ICE-Kartfahren
END:VEVENT
END:VCALENDAR
