BEGIN:VCALENDAR
VERSION:2.0
PRODID:-//pretix//tickets.webcontact.de//
BEGIN:VTIMEZONE
TZID:Europe/Berlin
BEGIN:STANDARD
DTSTART:20001029T040000
RRULE:FREQ=YEARLY;BYDAY=-1SU;BYMONTH=10
TZNAME:CET
TZOFFSETFROM:+0200
TZOFFSETTO:+0100
END:STANDARD
BEGIN:DAYLIGHT
DTSTART:20000326T030000
RRULE:FREQ=YEARLY;BYDAY=-1SU;BYMONTH=3
TZNAME:CEST
TZOFFSETFROM:+0100
TZOFFSETTO:+0200
END:DAYLIGHT
END:VTIMEZONE
BEGIN:VEVENT
UID:pretix-jub-gespenst-108398@tickets.webcontact.de
DTSTART;TZID=Europe/Berlin:20270126T100000
DTEND;TZID=Europe/Berlin:20270126T110000
DESCRIPTION:Tickets: https://tickets.webcontact.de/jub/gespenst/108398/\nVe
 ranstalter: Junge Ulmer Bühne
DTSTAMP:20260420T065615Z
LOCATION:Wagnerstraße 1\, 89077 Ulm
SUMMARY:Das kleine Gespenst
END:VEVENT
END:VCALENDAR
