BEGIN:VCALENDAR
VERSION:2.0
PRODID:-//pretix//tickets.webcontact.de//
BEGIN:VTIMEZONE
TZID:Europe/Berlin
BEGIN:STANDARD
DTSTART:20001029T040000
RRULE:FREQ=YEARLY;BYDAY=-1SU;BYMONTH=10
TZNAME:CET
TZOFFSETFROM:+0200
TZOFFSETTO:+0100
END:STANDARD
BEGIN:DAYLIGHT
DTSTART:20000326T030000
RRULE:FREQ=YEARLY;BYDAY=-1SU;BYMONTH=3
TZNAME:CEST
TZOFFSETFROM:+0100
TZOFFSETTO:+0200
END:DAYLIGHT
END:VTIMEZONE
BEGIN:VEVENT
UID:pretix-jub-gutscheine-0@tickets.webcontact.de
DTSTART;VALUE=DATE:20991203
DTEND;VALUE=DATE:20991204
DESCRIPTION:Tickets: https://tickets.webcontact.de/jub/gutscheine/\nVeranst
 alter: Junge Ulmer Bühne
DTSTAMP:20260420T045456Z
SUMMARY:Gutscheine
END:VEVENT
BEGIN:VEVENT
UID:pretix-jub-abenteuer-108019@tickets.webcontact.de
DTSTART;TZID=Europe/Berlin:20260304T160000
DTEND;TZID=Europe/Berlin:20260325T173000
DESCRIPTION:Tickets: https://tickets.webcontact.de/jub/abenteuer/108019/\nV
 eranstalter: Junge Ulmer Bühne
DTSTAMP:20260420T045456Z
LOCATION:unterer Kuhberg 16\, Ulm
SUMMARY:Workshop für Räuber*innen
END:VEVENT
BEGIN:VEVENT
UID:pretix-jub-ferienworkshops-108374@tickets.webcontact.de
DTSTART;TZID=Europe/Berlin:20260408T100000
DTEND;TZID=Europe/Berlin:20260411T160000
DESCRIPTION:Tickets: https://tickets.webcontact.de/jub/ferienworkshops/1083
 74/\nVeranstalter: Junge Ulmer Bühne
DTSTAMP:20260420T045456Z
LOCATION:Unterer Kuhberg 16\, 89075 Ulm
SUMMARY:Osterferien-Workshop 2026
END:VEVENT
BEGIN:VEVENT
UID:pretix-jub-dichter-108015@tickets.webcontact.de
DTSTART;TZID=Europe/Berlin:20260415T111500
DTEND;TZID=Europe/Berlin:20260415T121500
DESCRIPTION:Tickets: https://tickets.webcontact.de/jub/dichter/108015/\nVer
 anstalter: Junge Ulmer Bühne
DTSTAMP:20260420T045456Z
LOCATION:Wagnerstraße 1\, 89077 Ulm
SUMMARY:Dichter auf den Versen - Altes Theater Ulm
END:VEVENT
BEGIN:VEVENT
UID:pretix-jub-dichter-108404@tickets.webcontact.de
DTSTART;TZID=Europe/Berlin:20260416T101500
DTEND;TZID=Europe/Berlin:20260416T111500
DESCRIPTION:Tickets: https://tickets.webcontact.de/jub/dichter/108404/\nVer
 anstalter: Junge Ulmer Bühne
DTSTAMP:20260420T045456Z
LOCATION:Wagnerstraße 1\, 89077 Ulm
SUMMARY:Dichter auf den Versen - Altes Theater Ulm
END:VEVENT
BEGIN:VEVENT
UID:pretix-jub-spatzenwiese-108411@tickets.webcontact.de
DTSTART;TZID=Europe/Berlin:20260501T160000
DTEND;TZID=Europe/Berlin:20260501T170000
DESCRIPTION:Tickets: https://tickets.webcontact.de/jub/spatzenwiese/108411/
 \nVeranstalter: Junge Ulmer Bühne
DTSTAMP:20260420T045456Z
LOCATION:gänswieseweg ulm
SUMMARY:JUB - Boom! Die Rhythmus-Show
END:VEVENT
BEGIN:VEVENT
UID:pretix-jub-spatzenwiese-108415@tickets.webcontact.de
DTSTART;TZID=Europe/Berlin:20260502T150000
DTEND;TZID=Europe/Berlin:20260502T160000
DESCRIPTION:Tickets: https://tickets.webcontact.de/jub/spatzenwiese/108415/
 \nVeranstalter: Junge Ulmer Bühne
DTSTAMP:20260420T045456Z
LOCATION:gänswieseweg ulm
SUMMARY:Tommy Reichle - Musik\, Magie\, Ballons
END:VEVENT
BEGIN:VEVENT
UID:pretix-jub-spatzenwiese-108416@tickets.webcontact.de
DTSTART;TZID=Europe/Berlin:20260503T150000
DTEND;TZID=Europe/Berlin:20260503T160000
DESCRIPTION:Tickets: https://tickets.webcontact.de/jub/spatzenwiese/108416/
 \nVeranstalter: Junge Ulmer Bühne
DTSTAMP:20260420T045456Z
LOCATION:gänswieseweg ulm
SUMMARY:Helmut Seitz - Drehorgelspieler
END:VEVENT
BEGIN:VEVENT
UID:pretix-jub-spatzenwiese-108437@tickets.webcontact.de
DTSTART;TZID=Europe/Berlin:20260509T150000
DTEND;TZID=Europe/Berlin:20260509T160000
DESCRIPTION:Tickets: https://tickets.webcontact.de/jub/spatzenwiese/108437/
 \nVeranstalter: Junge Ulmer Bühne
DTSTAMP:20260420T045456Z
LOCATION:gänswieseweg ulm
SUMMARY:Reinhard Foschum\, Niklas Kätzel VFL Ulm/Neu-Ulm - Karate
END:VEVENT
BEGIN:VEVENT
UID:pretix-jub-clubpraesentation-108432@tickets.webcontact.de
DTSTART;TZID=Europe/Berlin:20260509T150000
DTEND;TZID=Europe/Berlin:20260509T160000
DESCRIPTION:Tickets: https://tickets.webcontact.de/jub/clubpraesentation/10
 8432/\nVeranstalter: Junge Ulmer Bühne
DTSTAMP:20260420T045456Z
LOCATION:Kuhberg 16\, 89077
SUMMARY:ImproShow der ImproKids
END:VEVENT
BEGIN:VEVENT
UID:pretix-jub-clubpraesentation-108433@tickets.webcontact.de
DTSTART;TZID=Europe/Berlin:20260510T140000
DTEND;TZID=Europe/Berlin:20260510T150000
DESCRIPTION:Tickets: https://tickets.webcontact.de/jub/clubpraesentation/10
 8433/\nVeranstalter: Junge Ulmer Bühne
DTSTAMP:20260420T045456Z
LOCATION:Kuhberg 16\, 89077
SUMMARY:ImproShow der ImproKids
END:VEVENT
BEGIN:VEVENT
UID:pretix-jub-spatzenwiese-108417@tickets.webcontact.de
DTSTART;TZID=Europe/Berlin:20260510T150000
DTEND;TZID=Europe/Berlin:20260510T160000
DESCRIPTION:Tickets: https://tickets.webcontact.de/jub/spatzenwiese/108417/
 \nVeranstalter: Junge Ulmer Bühne
DTSTAMP:20260420T045456Z
LOCATION:gänswieseweg ulm
SUMMARY:Helmut Seitz - Drehorgelspieler
END:VEVENT
BEGIN:VEVENT
UID:pretix-jub-spatzenwiese-108431@tickets.webcontact.de
DTSTART;TZID=Europe/Berlin:20260514T140000
DTEND;TZID=Europe/Berlin:20260514T150000
DESCRIPTION:Tickets: https://tickets.webcontact.de/jub/spatzenwiese/108431/
 \nVeranstalter: Junge Ulmer Bühne
DTSTAMP:20260420T045456Z
LOCATION:gänswieseweg ulm
SUMMARY:Mechthild Bäuerle - Kinderschminken
END:VEVENT
BEGIN:VEVENT
UID:pretix-jub-spatzenwiese-108418@tickets.webcontact.de
DTSTART;TZID=Europe/Berlin:20260516T150000
DTEND;TZID=Europe/Berlin:20260516T160000
DESCRIPTION:Tickets: https://tickets.webcontact.de/jub/spatzenwiese/108418/
 \nVeranstalter: Junge Ulmer Bühne
DTSTAMP:20260420T045456Z
LOCATION:gänswieseweg ulm
SUMMARY:Tommy Reichle - Musik\, Magie\, Ballons
END:VEVENT
BEGIN:VEVENT
UID:pretix-jub-spatzenwiese-108419@tickets.webcontact.de
DTSTART;TZID=Europe/Berlin:20260517T130000
DTEND;TZID=Europe/Berlin:20260517T140000
DESCRIPTION:Tickets: https://tickets.webcontact.de/jub/spatzenwiese/108419/
 \nVeranstalter: Junge Ulmer Bühne
DTSTAMP:20260420T045456Z
LOCATION:gänswieseweg ulm
SUMMARY:Peggy Knoll\, Roger Martin + Ritter der "Legion of the Stag - Germa
 ny" - Mittelalterlicher Freikampf
END:VEVENT
BEGIN:VEVENT
UID:pretix-jub-spatzenwiese-108420@tickets.webcontact.de
DTSTART;TZID=Europe/Berlin:20260517T140000
DTEND;TZID=Europe/Berlin:20260517T150000
DESCRIPTION:Tickets: https://tickets.webcontact.de/jub/spatzenwiese/108420/
 \nVeranstalter: Junge Ulmer Bühne
DTSTAMP:20260420T045456Z
LOCATION:gänswieseweg ulm
SUMMARY:Mechthild Bäuerle - Kinderschminken
END:VEVENT
BEGIN:VEVENT
UID:pretix-jub-spatzenwiese-108434@tickets.webcontact.de
DTSTART;TZID=Europe/Berlin:20260520T170000
DTEND;TZID=Europe/Berlin:20260520T180000
DESCRIPTION:Tickets: https://tickets.webcontact.de/jub/spatzenwiese/108434/
 \nVeranstalter: Junge Ulmer Bühne
DTSTAMP:20260420T045456Z
LOCATION:gänswieseweg ulm
SUMMARY:Monique Ramp\, Rogerio "Jerry" Charles de Sousa - Capoeira Ulm Kind
 ertraining
END:VEVENT
BEGIN:VEVENT
UID:pretix-jub-spatzenwiese-108435@tickets.webcontact.de
DTSTART;TZID=Europe/Berlin:20260522T150000
DTEND;TZID=Europe/Berlin:20260522T160000
DESCRIPTION:Tickets: https://tickets.webcontact.de/jub/spatzenwiese/108435/
 \nVeranstalter: Junge Ulmer Bühne
DTSTAMP:20260420T045456Z
LOCATION:gänswieseweg ulm
SUMMARY:Andrea Mittl - Märchenerzählerin
END:VEVENT
BEGIN:VEVENT
UID:pretix-jub-spatzenwiese-108421@tickets.webcontact.de
DTSTART;TZID=Europe/Berlin:20260525T150000
DTEND;TZID=Europe/Berlin:20260525T160000
DESCRIPTION:Tickets: https://tickets.webcontact.de/jub/spatzenwiese/108421/
 \nVeranstalter: Junge Ulmer Bühne
DTSTAMP:20260420T045456Z
LOCATION:gänswieseweg ulm
SUMMARY:Helmut Seitz - Drehorgelspieler
END:VEVENT
BEGIN:VEVENT
UID:pretix-jub-ferienworkshops-107986@tickets.webcontact.de
DTSTART;TZID=Europe/Berlin:20260526T100000
DTEND;TZID=Europe/Berlin:20260529T160000
DESCRIPTION:Tickets: https://tickets.webcontact.de/jub/ferienworkshops/1079
 86/\nVeranstalter: Junge Ulmer Bühne
DTSTAMP:20260420T045456Z
LOCATION:Unterer Kuhberg 16\, 89075 Ulm
SUMMARY:Pfingstferien-Workshop 2026
END:VEVENT
BEGIN:VEVENT
UID:pretix-jub-spatzenwiese-108422@tickets.webcontact.de
DTSTART;TZID=Europe/Berlin:20260526T153000
DTEND;TZID=Europe/Berlin:20260526T163000
DESCRIPTION:Tickets: https://tickets.webcontact.de/jub/spatzenwiese/108422/
 \nVeranstalter: Junge Ulmer Bühne
DTSTAMP:20260420T045456Z
LOCATION:gänswieseweg ulm
SUMMARY:Hermann Schleicher-Rövenstrunck - Kinderlieder
END:VEVENT
BEGIN:VEVENT
UID:pretix-jub-spatzenwiese-108423@tickets.webcontact.de
DTSTART;TZID=Europe/Berlin:20260528T153000
DTEND;TZID=Europe/Berlin:20260528T163000
DESCRIPTION:Tickets: https://tickets.webcontact.de/jub/spatzenwiese/108423/
 \nVeranstalter: Junge Ulmer Bühne
DTSTAMP:20260420T045456Z
LOCATION:gänswieseweg ulm
SUMMARY:Hermann Schleicher-Rövenstrunck - Kinderlieder
END:VEVENT
BEGIN:VEVENT
UID:pretix-jub-spatzenwiese-108424@tickets.webcontact.de
DTSTART;TZID=Europe/Berlin:20260529T150000
DTEND;TZID=Europe/Berlin:20260529T160000
DESCRIPTION:Tickets: https://tickets.webcontact.de/jub/spatzenwiese/108424/
 \nVeranstalter: Junge Ulmer Bühne
DTSTAMP:20260420T045456Z
LOCATION:gänswieseweg ulm
SUMMARY:Christa Mayerhofer\, Tommy Reichle - Clownerie\, Musik und Magie
END:VEVENT
BEGIN:VEVENT
UID:pretix-jub-spatzenwiese-108412@tickets.webcontact.de
DTSTART;TZID=Europe/Berlin:20260530T160000
DTEND;TZID=Europe/Berlin:20260530T170000
DESCRIPTION:Tickets: https://tickets.webcontact.de/jub/spatzenwiese/108412/
 \nVeranstalter: Junge Ulmer Bühne
DTSTAMP:20260420T045456Z
LOCATION:gänswieseweg ulm
SUMMARY:JUB - Boom! Die Rhythmus-Show
END:VEVENT
BEGIN:VEVENT
UID:pretix-jub-spatzenwiese-108425@tickets.webcontact.de
DTSTART;TZID=Europe/Berlin:20260531T153000
DTEND;TZID=Europe/Berlin:20260531T163000
DESCRIPTION:Tickets: https://tickets.webcontact.de/jub/spatzenwiese/108425/
 \nVeranstalter: Junge Ulmer Bühne
DTSTAMP:20260420T045456Z
LOCATION:gänswieseweg ulm
SUMMARY:Hermann Schleicher-Rövenstrunck - Kinderlieder
END:VEVENT
BEGIN:VEVENT
UID:pretix-jub-abenteuer-108017@tickets.webcontact.de
DTSTART;TZID=Europe/Berlin:20260601T100000
DTEND;TZID=Europe/Berlin:20260602T160000
DESCRIPTION:Tickets: https://tickets.webcontact.de/jub/abenteuer/108017/\nV
 eranstalter: Junge Ulmer Bühne
DTSTAMP:20260420T045456Z
LOCATION:unterer Kuhberg 16\, Ulm
SUMMARY:Virtuelle Theatertage
END:VEVENT
BEGIN:VEVENT
UID:pretix-jub-spatzenwiese-108426@tickets.webcontact.de
DTSTART;TZID=Europe/Berlin:20260602T150000
DTEND;TZID=Europe/Berlin:20260602T160000
DESCRIPTION:Tickets: https://tickets.webcontact.de/jub/spatzenwiese/108426/
 \nVeranstalter: Junge Ulmer Bühne
DTSTAMP:20260420T045456Z
LOCATION:gänswieseweg ulm
SUMMARY:Andrea Mittl - Märchenerzählerin
END:VEVENT
BEGIN:VEVENT
UID:pretix-jub-abenteuer-108405@tickets.webcontact.de
DTSTART;TZID=Europe/Berlin:20260603T130000
DTEND;TZID=Europe/Berlin:20260605T100000
DESCRIPTION:Tickets: https://tickets.webcontact.de/jub/abenteuer/108405/\nV
 eranstalter: Junge Ulmer Bühne
DTSTAMP:20260420T045456Z
LOCATION:Unterer Kuhberg 16\, 89075 Ulm
SUMMARY:Theatercamp
END:VEVENT
BEGIN:VEVENT
UID:pretix-jub-spatzenwiese-108427@tickets.webcontact.de
DTSTART;TZID=Europe/Berlin:20260603T150000
DTEND;TZID=Europe/Berlin:20260603T160000
DESCRIPTION:Tickets: https://tickets.webcontact.de/jub/spatzenwiese/108427/
 \nVeranstalter: Junge Ulmer Bühne
DTSTAMP:20260420T045456Z
LOCATION:gänswieseweg ulm
SUMMARY:Tommy Reichle - Musik\, Magie\, Ballons
END:VEVENT
BEGIN:VEVENT
UID:pretix-jub-spatzenwiese-108413@tickets.webcontact.de
DTSTART;TZID=Europe/Berlin:20260604T160000
DTEND;TZID=Europe/Berlin:20260604T170000
DESCRIPTION:Tickets: https://tickets.webcontact.de/jub/spatzenwiese/108413/
 \nVeranstalter: Junge Ulmer Bühne
DTSTAMP:20260420T045456Z
LOCATION:gänswieseweg ulm
SUMMARY:JUB - Boom! Die Rhythmus-Show
END:VEVENT
BEGIN:VEVENT
UID:pretix-jub-spatzenwiese-108428@tickets.webcontact.de
DTSTART;TZID=Europe/Berlin:20260605T150000
DTEND;TZID=Europe/Berlin:20260605T160000
DESCRIPTION:Tickets: https://tickets.webcontact.de/jub/spatzenwiese/108428/
 \nVeranstalter: Junge Ulmer Bühne
DTSTAMP:20260420T045456Z
LOCATION:gänswieseweg ulm
SUMMARY:Christa Mayerhofer\, Tommy Reichle - Clownerie\, Musik und Magie
END:VEVENT
BEGIN:VEVENT
UID:pretix-jub-spatzenwiese-108430@tickets.webcontact.de
DTSTART;TZID=Europe/Berlin:20260606T140000
DTEND;TZID=Europe/Berlin:20260606T150000
DESCRIPTION:Tickets: https://tickets.webcontact.de/jub/spatzenwiese/108430/
 \nVeranstalter: Junge Ulmer Bühne
DTSTAMP:20260420T045456Z
LOCATION:gänswieseweg ulm
SUMMARY:Tommy Reichle -Modellierballons
END:VEVENT
BEGIN:VEVENT
UID:pretix-jub-spatzenwiese-108429@tickets.webcontact.de
DTSTART;TZID=Europe/Berlin:20260606T140000
DTEND;TZID=Europe/Berlin:20260606T150000
DESCRIPTION:Tickets: https://tickets.webcontact.de/jub/spatzenwiese/108429/
 \nVeranstalter: Junge Ulmer Bühne
DTSTAMP:20260420T045456Z
LOCATION:gänswieseweg ulm
SUMMARY:Helmut Seitz - Drehorgelspieler
END:VEVENT
BEGIN:VEVENT
UID:pretix-jub-spatzenwiese-108414@tickets.webcontact.de
DTSTART;TZID=Europe/Berlin:20260606T160000
DTEND;TZID=Europe/Berlin:20260606T170000
DESCRIPTION:Tickets: https://tickets.webcontact.de/jub/spatzenwiese/108414/
 \nVeranstalter: Junge Ulmer Bühne
DTSTAMP:20260420T045456Z
LOCATION:gänswieseweg ulm
SUMMARY:JUB - Boom! Die Rhythmus-Show
END:VEVENT
BEGIN:VEVENT
UID:pretix-jub-abenteuer-108057@tickets.webcontact.de
DTSTART;TZID=Europe/Berlin:20260617T153000
DTEND;TZID=Europe/Berlin:20260708T170000
DESCRIPTION:Tickets: https://tickets.webcontact.de/jub/abenteuer/108057/\nV
 eranstalter: Junge Ulmer Bühne
DTSTAMP:20260420T045456Z
LOCATION:unterer Kuhberg 16\, Ulm
SUMMARY:Abenteuer-Workshop: Schnell wie ein Gepard\, leicht wie eine Feder
END:VEVENT
BEGIN:VEVENT
UID:pretix-jub-abenteuer-108058@tickets.webcontact.de
DTSTART;TZID=Europe/Berlin:20260625T170000
DTEND;TZID=Europe/Berlin:20260723T190000
DESCRIPTION:Tickets: https://tickets.webcontact.de/jub/abenteuer/108058/\nV
 eranstalter: Junge Ulmer Bühne
DTSTAMP:20260420T045456Z
LOCATION:unterer Kuhberg 16\, Ulm
SUMMARY:Blickwechsel - Workshop zum Schreiben und Performen
END:VEVENT
BEGIN:VEVENT
UID:pretix-jub-heimsuchung-107828@tickets.webcontact.de
DTSTART;TZID=Europe/Berlin:20260707T100000
DTEND;TZID=Europe/Berlin:20260707T110000
DESCRIPTION:Tickets: https://tickets.webcontact.de/jub/heimsuchung/107828/\
 nVeranstalter: Junge Ulmer Bühne
DTSTAMP:20260420T045456Z
LOCATION:Wagnerstraße 1\, 89077 Ulm
SUMMARY:Heimsuchung - Premiere
END:VEVENT
BEGIN:VEVENT
UID:pretix-jub-heimsuchung-107829@tickets.webcontact.de
DTSTART;TZID=Europe/Berlin:20260708T100000
DTEND;TZID=Europe/Berlin:20260708T110000
DESCRIPTION:Tickets: https://tickets.webcontact.de/jub/heimsuchung/107829/\
 nVeranstalter: Junge Ulmer Bühne
DTSTAMP:20260420T045456Z
LOCATION:Wagnerstraße 1\, 89077 Ulm
SUMMARY:Heimsuchung
END:VEVENT
BEGIN:VEVENT
UID:pretix-jub-heimsuchung-107830@tickets.webcontact.de
DTSTART;TZID=Europe/Berlin:20260709T100000
DTEND;TZID=Europe/Berlin:20260709T110000
DESCRIPTION:Tickets: https://tickets.webcontact.de/jub/heimsuchung/107830/\
 nVeranstalter: Junge Ulmer Bühne
DTSTAMP:20260420T045456Z
LOCATION:Wagnerstraße 1\, 89077 Ulm
SUMMARY:Heimsuchung
END:VEVENT
BEGIN:VEVENT
UID:pretix-jub-heimsuchung-107831@tickets.webcontact.de
DTSTART;TZID=Europe/Berlin:20260710T100000
DTEND;TZID=Europe/Berlin:20260710T110000
DESCRIPTION:Tickets: https://tickets.webcontact.de/jub/heimsuchung/107831/\
 nVeranstalter: Junge Ulmer Bühne
DTSTAMP:20260420T045456Z
LOCATION:Wagnerstraße 1\, 89077 Ulm
SUMMARY:Heimsuchung
END:VEVENT
BEGIN:VEVENT
UID:pretix-jub-ddfkids-108375@tickets.webcontact.de
DTSTART;TZID=Europe/Berlin:20261004T150000
DTEND;TZID=Europe/Berlin:20261004T160000
DESCRIPTION:Tickets: https://tickets.webcontact.de/jub/ddfkids/108375/\nVer
 anstalter: Junge Ulmer Bühne
DTSTAMP:20260420T045456Z
LOCATION:Wagnerstraße 1\, 89077 Ulm
SUMMARY:Die Drei ??? Kids
END:VEVENT
BEGIN:VEVENT
UID:pretix-jub-ddfkids-108376@tickets.webcontact.de
DTSTART;TZID=Europe/Berlin:20261018T150000
DTEND;TZID=Europe/Berlin:20261018T160000
DESCRIPTION:Tickets: https://tickets.webcontact.de/jub/ddfkids/108376/\nVer
 anstalter: Junge Ulmer Bühne
DTSTAMP:20260420T045456Z
LOCATION:Wagnerstraße 1\, 89077 Ulm
SUMMARY:Die Drei ??? Kids
END:VEVENT
BEGIN:VEVENT
UID:pretix-jub-ddfkids-108377@tickets.webcontact.de
DTSTART;TZID=Europe/Berlin:20261021T093000
DTEND;TZID=Europe/Berlin:20261021T103000
DESCRIPTION:Tickets: https://tickets.webcontact.de/jub/ddfkids/108377/\nVer
 anstalter: Junge Ulmer Bühne
DTSTAMP:20260420T045456Z
LOCATION:Wagnerstraße 1\, 89077 Ulm
SUMMARY:Die Drei ??? Kids
END:VEVENT
BEGIN:VEVENT
UID:pretix-jub-ddfkids-108378@tickets.webcontact.de
DTSTART;TZID=Europe/Berlin:20261022T093000
DTEND;TZID=Europe/Berlin:20261022T103000
DESCRIPTION:Tickets: https://tickets.webcontact.de/jub/ddfkids/108378/\nVer
 anstalter: Junge Ulmer Bühne
DTSTAMP:20260420T045456Z
LOCATION:Wagnerstraße 1\, 89077 Ulm
SUMMARY:Die Drei ??? Kids
END:VEVENT
BEGIN:VEVENT
UID:pretix-jub-ddfkids-108379@tickets.webcontact.de
DTSTART;TZID=Europe/Berlin:20261023T093000
DTEND;TZID=Europe/Berlin:20261023T103000
DESCRIPTION:Tickets: https://tickets.webcontact.de/jub/ddfkids/108379/\nVer
 anstalter: Junge Ulmer Bühne
DTSTAMP:20260420T045456Z
LOCATION:Wagnerstraße 1\, 89077 Ulm
SUMMARY:Die Drei ??? Kids
END:VEVENT
BEGIN:VEVENT
UID:pretix-jub-ddfkids-108380@tickets.webcontact.de
DTSTART;TZID=Europe/Berlin:20261024T150000
DTEND;TZID=Europe/Berlin:20261024T160000
DESCRIPTION:Tickets: https://tickets.webcontact.de/jub/ddfkids/108380/\nVer
 anstalter: Junge Ulmer Bühne
DTSTAMP:20260420T045456Z
LOCATION:Wagnerstraße 1\, 89077 Ulm
SUMMARY:Die Drei ??? Kids
END:VEVENT
BEGIN:VEVENT
UID:pretix-jub-grueffelokind-108381@tickets.webcontact.de
DTSTART;TZID=Europe/Berlin:20261108T150000
DTEND;TZID=Europe/Berlin:20261108T160000
DESCRIPTION:Tickets: https://tickets.webcontact.de/jub/grueffelokind/108381
 /\nVeranstalter: Junge Ulmer Bühne
DTSTAMP:20260420T045456Z
LOCATION:Wagnerstraße 1\, 89077 Ulm
SUMMARY:Das Grüffelokind
END:VEVENT
BEGIN:VEVENT
UID:pretix-jub-grueffelokind-108382@tickets.webcontact.de
DTSTART;TZID=Europe/Berlin:20261115T150000
DTEND;TZID=Europe/Berlin:20261115T160000
DESCRIPTION:Tickets: https://tickets.webcontact.de/jub/grueffelokind/108382
 /\nVeranstalter: Junge Ulmer Bühne
DTSTAMP:20260420T045456Z
LOCATION:Wagnerstraße 1\, 89077 Ulm
SUMMARY:Das Grüffelokind - JUB-Tag
END:VEVENT
BEGIN:VEVENT
UID:pretix-jub-heimsuchung-107975@tickets.webcontact.de
DTSTART;TZID=Europe/Berlin:20261125T100000
DTEND;TZID=Europe/Berlin:20261125T110000
DESCRIPTION:Tickets: https://tickets.webcontact.de/jub/heimsuchung/107975/\
 nVeranstalter: Junge Ulmer Bühne
DTSTAMP:20260420T045456Z
LOCATION:Wagnerstraße 1\, 89077 Ulm
SUMMARY:Heimsuchung
END:VEVENT
BEGIN:VEVENT
UID:pretix-jub-grueffelokind-108385@tickets.webcontact.de
DTSTART;TZID=Europe/Berlin:20261208T090000
DTEND;TZID=Europe/Berlin:20261208T100000
DESCRIPTION:Tickets: https://tickets.webcontact.de/jub/grueffelokind/108385
 /\nVeranstalter: Junge Ulmer Bühne
DTSTAMP:20260420T045456Z
LOCATION:Wagnerstraße 1\, 89077 Ulm
SUMMARY:Das Grüffelokind
END:VEVENT
BEGIN:VEVENT
UID:pretix-jub-grueffelokind-108386@tickets.webcontact.de
DTSTART;TZID=Europe/Berlin:20261209T110000
DTEND;TZID=Europe/Berlin:20261209T120000
DESCRIPTION:Tickets: https://tickets.webcontact.de/jub/grueffelokind/108386
 /\nVeranstalter: Junge Ulmer Bühne
DTSTAMP:20260420T045456Z
LOCATION:Wagnerstraße 1\, 89077 Ulm
SUMMARY:Das Grüffelokind
END:VEVENT
BEGIN:VEVENT
UID:pretix-jub-grueffelokind-108387@tickets.webcontact.de
DTSTART;TZID=Europe/Berlin:20261210T090000
DTEND;TZID=Europe/Berlin:20261210T100000
DESCRIPTION:Tickets: https://tickets.webcontact.de/jub/grueffelokind/108387
 /\nVeranstalter: Junge Ulmer Bühne
DTSTAMP:20260420T045456Z
LOCATION:Wagnerstraße 1\, 89077 Ulm
SUMMARY:Das Grüffelokind
END:VEVENT
BEGIN:VEVENT
UID:pretix-jub-grueffelokind-108384@tickets.webcontact.de
DTSTART;TZID=Europe/Berlin:20261213T150000
DTEND;TZID=Europe/Berlin:20261213T160000
DESCRIPTION:Tickets: https://tickets.webcontact.de/jub/grueffelokind/108384
 /\nVeranstalter: Junge Ulmer Bühne
DTSTAMP:20260420T045456Z
LOCATION:Wagnerstraße 1\, 89077 Ulm
SUMMARY:Das Grüffelokind
END:VEVENT
BEGIN:VEVENT
UID:pretix-jub-grueffelokind-108388@tickets.webcontact.de
DTSTART;TZID=Europe/Berlin:20261215T110000
DTEND;TZID=Europe/Berlin:20261215T120000
DESCRIPTION:Tickets: https://tickets.webcontact.de/jub/grueffelokind/108388
 /\nVeranstalter: Junge Ulmer Bühne
DTSTAMP:20260420T045456Z
LOCATION:Wagnerstraße 1\, 89077 Ulm
SUMMARY:Das Grüffelokind
END:VEVENT
BEGIN:VEVENT
UID:pretix-jub-grueffelokind-108389@tickets.webcontact.de
DTSTART;TZID=Europe/Berlin:20261216T090000
DTEND;TZID=Europe/Berlin:20261216T100000
DESCRIPTION:Tickets: https://tickets.webcontact.de/jub/grueffelokind/108389
 /\nVeranstalter: Junge Ulmer Bühne
DTSTAMP:20260420T045456Z
LOCATION:Wagnerstraße 1\, 89077 Ulm
SUMMARY:Das Grüffelokind
END:VEVENT
BEGIN:VEVENT
UID:pretix-jub-grueffelokind-108390@tickets.webcontact.de
DTSTART;TZID=Europe/Berlin:20261217T110000
DTEND;TZID=Europe/Berlin:20261217T120000
DESCRIPTION:Tickets: https://tickets.webcontact.de/jub/grueffelokind/108390
 /\nVeranstalter: Junge Ulmer Bühne
DTSTAMP:20260420T045456Z
LOCATION:Wagnerstraße 1\, 89077 Ulm
SUMMARY:Das Grüffelokind
END:VEVENT
BEGIN:VEVENT
UID:pretix-jub-grueffelokind-108391@tickets.webcontact.de
DTSTART;TZID=Europe/Berlin:20261220T110000
DTEND;TZID=Europe/Berlin:20261220T120000
DESCRIPTION:Tickets: https://tickets.webcontact.de/jub/grueffelokind/108391
 /\nVeranstalter: Junge Ulmer Bühne
DTSTAMP:20260420T045456Z
LOCATION:Wagnerstraße 1\, 89077 Ulm
SUMMARY:Das Grüffelokind
END:VEVENT
BEGIN:VEVENT
UID:pretix-jub-gespenst-108393@tickets.webcontact.de
DTSTART;TZID=Europe/Berlin:20270117T150000
DTEND;TZID=Europe/Berlin:20270117T160000
DESCRIPTION:Tickets: https://tickets.webcontact.de/jub/gespenst/108393/\nVe
 ranstalter: Junge Ulmer Bühne
DTSTAMP:20260420T045456Z
LOCATION:Wagnerstraße 1\, 89077 Ulm
SUMMARY:Das kleine Gespenst
END:VEVENT
BEGIN:VEVENT
UID:pretix-jub-gespenst-108394@tickets.webcontact.de
DTSTART;TZID=Europe/Berlin:20270119T100000
DTEND;TZID=Europe/Berlin:20270119T110000
DESCRIPTION:Tickets: https://tickets.webcontact.de/jub/gespenst/108394/\nVe
 ranstalter: Junge Ulmer Bühne
DTSTAMP:20260420T045456Z
LOCATION:Wagnerstraße 1\, 89077 Ulm
SUMMARY:Das kleine Gespenst
END:VEVENT
BEGIN:VEVENT
UID:pretix-jub-gespenst-108395@tickets.webcontact.de
DTSTART;TZID=Europe/Berlin:20270120T100000
DTEND;TZID=Europe/Berlin:20270120T110000
DESCRIPTION:Tickets: https://tickets.webcontact.de/jub/gespenst/108395/\nVe
 ranstalter: Junge Ulmer Bühne
DTSTAMP:20260420T045456Z
LOCATION:Wagnerstraße 1\, 89077 Ulm
SUMMARY:Das kleine Gespenst
END:VEVENT
BEGIN:VEVENT
UID:pretix-jub-gespenst-108396@tickets.webcontact.de
DTSTART;TZID=Europe/Berlin:20270121T100000
DTEND;TZID=Europe/Berlin:20270121T110000
DESCRIPTION:Tickets: https://tickets.webcontact.de/jub/gespenst/108396/\nVe
 ranstalter: Junge Ulmer Bühne
DTSTAMP:20260420T045456Z
LOCATION:Wagnerstraße 1\, 89077 Ulm
SUMMARY:Das kleine Gespenst
END:VEVENT
BEGIN:VEVENT
UID:pretix-jub-gespenst-108397@tickets.webcontact.de
DTSTART;TZID=Europe/Berlin:20270124T150000
DTEND;TZID=Europe/Berlin:20270124T160000
DESCRIPTION:Tickets: https://tickets.webcontact.de/jub/gespenst/108397/\nVe
 ranstalter: Junge Ulmer Bühne
DTSTAMP:20260420T045456Z
LOCATION:Wagnerstraße 1\, 89077 Ulm
SUMMARY:Das kleine Gespenst
END:VEVENT
BEGIN:VEVENT
UID:pretix-jub-gespenst-108398@tickets.webcontact.de
DTSTART;TZID=Europe/Berlin:20270126T100000
DTEND;TZID=Europe/Berlin:20270126T110000
DESCRIPTION:Tickets: https://tickets.webcontact.de/jub/gespenst/108398/\nVe
 ranstalter: Junge Ulmer Bühne
DTSTAMP:20260420T045456Z
LOCATION:Wagnerstraße 1\, 89077 Ulm
SUMMARY:Das kleine Gespenst
END:VEVENT
BEGIN:VEVENT
UID:pretix-jub-gespenst-108399@tickets.webcontact.de
DTSTART;TZID=Europe/Berlin:20270127T100000
DTEND;TZID=Europe/Berlin:20270127T110000
DESCRIPTION:Tickets: https://tickets.webcontact.de/jub/gespenst/108399/\nVe
 ranstalter: Junge Ulmer Bühne
DTSTAMP:20260420T045456Z
LOCATION:Wagnerstraße 1\, 89077 Ulm
SUMMARY:Das kleine Gespenst
END:VEVENT
BEGIN:VEVENT
UID:pretix-jub-gespenst-108400@tickets.webcontact.de
DTSTART;TZID=Europe/Berlin:20270128T100000
DTEND;TZID=Europe/Berlin:20270128T110000
DESCRIPTION:Tickets: https://tickets.webcontact.de/jub/gespenst/108400/\nVe
 ranstalter: Junge Ulmer Bühne
DTSTAMP:20260420T045456Z
LOCATION:Wagnerstraße 1\, 89077 Ulm
SUMMARY:Das kleine Gespenst
END:VEVENT
BEGIN:VEVENT
UID:pretix-jub-heimsuchung-107982@tickets.webcontact.de
DTSTART;TZID=Europe/Berlin:20270202T100000
DTEND;TZID=Europe/Berlin:20270202T110000
DESCRIPTION:Tickets: https://tickets.webcontact.de/jub/heimsuchung/107982/\
 nVeranstalter: Junge Ulmer Bühne
DTSTAMP:20260420T045456Z
LOCATION:Wagnerstraße 1\, 89077 Ulm
SUMMARY:Heimsuchung
END:VEVENT
BEGIN:VEVENT
UID:pretix-jub-heimsuchung-107983@tickets.webcontact.de
DTSTART;TZID=Europe/Berlin:20270203T100000
DTEND;TZID=Europe/Berlin:20270203T110000
DESCRIPTION:Tickets: https://tickets.webcontact.de/jub/heimsuchung/107983/\
 nVeranstalter: Junge Ulmer Bühne
DTSTAMP:20260420T045456Z
LOCATION:Wagnerstraße 1\, 89077 Ulm
SUMMARY:Heimsuchung
END:VEVENT
END:VCALENDAR
