BEGIN:VCALENDAR
VERSION:2.0
PRODID:-//pretix//tickets.webcontact.de//
BEGIN:VTIMEZONE
TZID:Europe/Berlin
BEGIN:STANDARD
DTSTART:20001029T040000
RRULE:FREQ=YEARLY;BYDAY=-1SU;BYMONTH=10
TZNAME:CET
TZOFFSETFROM:+0200
TZOFFSETTO:+0100
END:STANDARD
BEGIN:DAYLIGHT
DTSTART:20000326T030000
RRULE:FREQ=YEARLY;BYDAY=-1SU;BYMONTH=3
TZNAME:CEST
TZOFFSETFROM:+0100
TZOFFSETTO:+0200
END:DAYLIGHT
END:VTIMEZONE
BEGIN:VEVENT
UID:pretix-jub-clubpraesentation-97277@tickets.webcontact.de
DTSTART;TZID=Europe/Berlin:20240426T170000
DTEND;TZID=Europe/Berlin:20240426T180000
DESCRIPTION:Tickets: https://tickets.webcontact.de/jub/clubpraesentation/97
 277/\nVeranstalter: Junge Ulmer Bühne
DTSTAMP:20260425T114145Z
LOCATION:Kuhberg 16 ulm
SUMMARY:PDK-Planet der Kinder - Präsentation Kidsclub - JUB-Tag
END:VEVENT
END:VCALENDAR
