BEGIN:VCALENDAR
VERSION:2.0
PRODID:-//pretix//tickets.webcontact.de//
BEGIN:VTIMEZONE
TZID:Europe/Berlin
BEGIN:STANDARD
DTSTART:20001029T040000
RRULE:FREQ=YEARLY;BYDAY=-1SU;BYMONTH=10
TZNAME:CET
TZOFFSETFROM:+0200
TZOFFSETTO:+0100
END:STANDARD
BEGIN:DAYLIGHT
DTSTART:20000326T030000
RRULE:FREQ=YEARLY;BYDAY=-1SU;BYMONTH=3
TZNAME:CEST
TZOFFSETFROM:+0100
TZOFFSETTO:+0200
END:DAYLIGHT
END:VTIMEZONE
BEGIN:VEVENT
UID:pretix-jub-clubpraesentation-107908@tickets.webcontact.de
DTSTART;TZID=Europe/Berlin:20250706T153000
DTEND;TZID=Europe/Berlin:20250706T163000
DESCRIPTION:Tickets: https://tickets.webcontact.de/jub/clubpraesentation/10
 7908/\nVeranstalter: Junge Ulmer Bühne
DTSTAMP:20260421T005114Z
LOCATION:Wagnerstraße1\, 89077 Ulm
SUMMARY:Mona Lisas Lashes und ein Mord - Eine Stückentwicklung des TeensCl
 ubs
END:VEVENT
END:VCALENDAR
