BEGIN:VCALENDAR
VERSION:2.0
PRODID:-//pretix//tickets.webcontact.de//
BEGIN:VTIMEZONE
TZID:Europe/Berlin
BEGIN:STANDARD
DTSTART:20001029T040000
RRULE:FREQ=YEARLY;BYDAY=-1SU;BYMONTH=10
TZNAME:CET
TZOFFSETFROM:+0200
TZOFFSETTO:+0100
END:STANDARD
BEGIN:DAYLIGHT
DTSTART:20000326T030000
RRULE:FREQ=YEARLY;BYDAY=-1SU;BYMONTH=3
TZNAME:CEST
TZOFFSETFROM:+0100
TZOFFSETTO:+0200
END:DAYLIGHT
END:VTIMEZONE
BEGIN:VEVENT
UID:pretix-jub-clubpraesentation-107805@tickets.webcontact.de
DTSTART;TZID=Europe/Berlin:20250627T173000
DTEND;TZID=Europe/Berlin:20250627T183000
DESCRIPTION:Tickets: https://tickets.webcontact.de/jub/clubpraesentation/10
 7805/\nVeranstalter: Junge Ulmer Bühne
DTSTAMP:20260421T043456Z
LOCATION:Kuhberg 16\, 89077
SUMMARY:Geheimnisvolle Welt - Präsentation der MontagsKids
END:VEVENT
END:VCALENDAR
