BEGIN:VCALENDAR
VERSION:2.0
PRODID:-//pretix//tickets.webcontact.de//
BEGIN:VTIMEZONE
TZID:Europe/Berlin
BEGIN:STANDARD
DTSTART:20001029T040000
RRULE:FREQ=YEARLY;BYDAY=-1SU;BYMONTH=10
TZNAME:CET
TZOFFSETFROM:+0200
TZOFFSETTO:+0100
END:STANDARD
BEGIN:DAYLIGHT
DTSTART:20000326T030000
RRULE:FREQ=YEARLY;BYDAY=-1SU;BYMONTH=3
TZNAME:CEST
TZOFFSETFROM:+0100
TZOFFSETTO:+0200
END:DAYLIGHT
END:VTIMEZONE
BEGIN:VEVENT
UID:pretix-jub-abenteuer-107991@tickets.webcontact.de
DTSTART;TZID=Europe/Berlin:20251008T153000
DTEND;TZID=Europe/Berlin:20251022T170000
DESCRIPTION:Tickets: https://tickets.webcontact.de/jub/abenteuer/107991/\nV
 eranstalter: Junge Ulmer Bühne
DTSTAMP:20260420T212715Z
LOCATION:Unterer Kuhberg 16\, 89075 Ulm
SUMMARY:Workshop für Träumer*innen (3 Termine)
END:VEVENT
END:VCALENDAR
